BEGIN:VCALENDAR
VERSION:2.0
PRODID:-//Kalender//1.0//DE
METHOD:REQUEST
BEGIN:VEVENT
ORGANIZER:MAILTO:info@sonne-streuobstwiesen.de
LOCATION;ENCODING=QUOTED-PRINTABLE:Zülpich Schwerfen
SUMMARY:Mitgliederversammlung
DESCRIPTION;ENCODING=QUOTED-PRINTABLE:=0D=0A=
Die Mitglieder der SoNNe eg werden zu diesm Termin per Anschreiben informiert.
DTSTART:20260519T190000
DTEND:20260519T210000
END:VEVENT
END:VCALENDAR
